BEGIN:VCALENDAR
PRODID:NingEventWidget-v1
VERSION:2.0
METHOD:PUBLISH
BEGIN:VTIMEZONE
TZID:America/Cancun
X-LIC-LOCATION:America/Cancun
BEGIN:DAYLIGHT
TZOFFSETFROM:-0600
TZOFFSETTO:-0500
TZNAME:CDT
DTSTART:19700405T020000
RRULE:FREQ=YEARLY;BYMONTH=4;BYDAY=1SU
END:DAYLIGHT
BEGIN:STANDARD
TZOFFSETFROM:-0500
TZOFFSETTO:-0600
TZNAME:CST
DTSTART:19701025T020000
RRULE:FREQ=YEARLY;BYMONTH=10;BYDAY=-1SU
END:STANDARD
END:VTIMEZONE
BEGIN:VEVENT
UID:2636007:Event:168033
DTSTAMP:20260422T180336Z
SUMMARY:Understanding the FairTax (Special)
DESCRIPTION:WHAT:  “Understanding the FairTax” (now in our 4th ye
 ar) webinar for May 2012 and\nExtra SPECIAL TOPIC:  Why we don't want
  9-9-9 or any other modified Income Tax\nWHEN: Thursday, May 24, 2012 
 TIME:  8 – 9:00pm Eastern Time             7 – 8:00pm
  Central, 6 – 7:00 \n       Mountain, 5 – 6:00 PacificWHERE
 :  Your home, your Personal ComputerWHY:  To provide an interactive 
 forum for people to learn about the FairTax and to present Special Top
 ics that are frequently misunderstood or not generally discussed. Educ
 ation is critical for the FairTax grassroots organizations and we are 
 Educating the Nation on the web. \nFrom here on everything is focused
  on getting the FairTax passed in 2013.  Taking your knowledge and ac
 tively Advocating the FairTax is needed to replace the cosponsors that
  are retiring and getting additional ones in place.  The efforts of t
 he grass roots are vital to win this war against an income tax.\n \nT
 hank you all for your participation.  Bring more participants to this
  months and every months webinar.\n \nJoin Marc Manieri, AFFT & FFTEA
  Webinar Producer & Host from Orlando, Florida.  Marc’s webinars dr
 aw national participation from seasoned FairTax supporters as well as 
 those just getting started.  We help build the knowledge base of thos
 e on the front lines as well as those wanting to know what the FairTax
  is about.  We educate candidates and sitting Congressional Represent
 atives on the merits of the FairTax.\n \nNOTICE:  To participate it 
 is necessary to pre-register at this web link:\nhttps://www2.gotomeeti
 ng.com/register/402668202Watch for a confirmation email with instructi
 ons for logging on.  \nIf this is your first participation, when you 
 log on you’ll be asked to download GoToWebinar software which will a
 llow you to join us. \nFor additional information contact Marc Manier
 i, 407-719-5117 or Larry Walters at repeal_16@earthlink.net.\n \n\nFo
 r more information visit http://www.fairtaxnation.com/events/understan
 ding-the-fairtax-special
DTSTART;TZID=America/Cancun:20120524T200000
DTEND;TZID=America/Cancun:20120524T210000
CATEGORIES:webinar
LOCATION:Your Home, Your PC
WEBSITE:http://www.fairtax.org
URL:http://www.fairtax.org
CONTACT:407-949-2959 / 407-719-5117
ORGANIZER:Larry Walters / Marc Manieri
ATTACH;FMTTYPE="image/jpeg":
ATTENDEE;ROLE=REQ-PARTICIPANT;PARTSTAT=ACCEPTED;RSVP=TRUE;CN="Larry Wa
 lters":http://www.fairtaxnation.com/profile/LarryWalters
END:VEVENT
END:VCALENDAR
