BEGIN:VCALENDAR
PRODID:NingEventWidget-v1
VERSION:2.0
METHOD:PUBLISH
BEGIN:VTIMEZONE
TZID:America/Cancun
X-LIC-LOCATION:America/Cancun
BEGIN:DAYLIGHT
TZOFFSETFROM:-0600
TZOFFSETTO:-0500
TZNAME:CDT
DTSTART:19700405T020000
RRULE:FREQ=YEARLY;BYMONTH=4;BYDAY=1SU
END:DAYLIGHT
BEGIN:STANDARD
TZOFFSETFROM:-0500
TZOFFSETTO:-0600
TZNAME:CST
DTSTART:19701025T020000
RRULE:FREQ=YEARLY;BYMONTH=10;BYDAY=-1SU
END:STANDARD
END:VTIMEZONE
BEGIN:VEVENT
UID:2636007:Event:188172
DTSTAMP:20260421T015901Z
SUMMARY:Understanding The FairTax Webiar - July 2014
DESCRIPTION:WHAT:  “Understanding the FairTax®” Webinar for July
  2014 and SPECIAL TOPIC:  “How You Can Help (to pass the FairTax®)
 ”.\nWHEN: Thursday July 24, 2014  TIME:  8 p.m. Eastern, 7 p.m. Cen
 tral, 6 p.m. Mountain, and 5 p.m. Pacific  WHERE:  Anywhere your Pers
 onal Computer has internet access  This is a LIVE EVENT.  You can ask
  questions phone/microphone or typed message and all questions will be
  answered.\nBring more participants to this months and every month’s
  webinar. Grassroots is the process of spreading the message (grass) t
 o others. Maybe it would be better if we were a “weed” roots organ
 ization. Weeds grow faster than grass.\nJoin District Director & tonig
 ht’s Hostess, Barb Rudelic who will present Understanding the FairTa
 x and our Special Topic.\nIn our sixth year now, Marc Manieri will ret
 urn next month to resume producing and hosting our webinars.\nOur webi
 nars are vital to educating honest tax payers.  We help build the kno
 wledge base of those on the front lines as well as those wanting to kn
 ow what the FairTax® is about. \nNOTICE:  To participate it is nece
 ssary to pre-register at this web link:\n https://www3.gotomeeting.com
 /register/488110062\n Watch for a confirmation email with instructions
  for logging on.\nWhen you log on you may be asked to download GoToWeb
 inar software or it will download automatically which will allow you t
 o join us.  For additional information contact Larry Walters at repea
 l_16@earthlink.net.\n\nFor more information visit http://www.fairtaxna
 tion.com/events/understanding-the-fairtax-webiar-july-2014
DTSTART;TZID=America/Cancun:20140724T200000
DTEND;TZID=America/Cancun:20140724T210000
CATEGORIES:webinar
LOCATION:Your computer anywhere with an internet connection
WEBSITE:http://www.flfairtax.org
URL:http://www.flfairtax.org
CONTACT:407-949-2959
ORGANIZER;CN="Larry Walters":http://www.fairtaxnation.com/profile/Larr
 yWalters
ATTACH;FMTTYPE="image/jpeg":
ATTENDEE;ROLE=REQ-PARTICIPANT;PARTSTAT=ACCEPTED;RSVP=TRUE;CN="Larry Wa
 lters":http://www.fairtaxnation.com/profile/LarryWalters
END:VEVENT
END:VCALENDAR
