BEGIN:VCALENDAR
PRODID:NingEventWidget-v1
VERSION:2.0
METHOD:PUBLISH
BEGIN:VTIMEZONE
TZID:America/Cancun
X-LIC-LOCATION:America/Cancun
BEGIN:DAYLIGHT
TZOFFSETFROM:-0600
TZOFFSETTO:-0500
TZNAME:CDT
DTSTART:19700405T020000
RRULE:FREQ=YEARLY;BYMONTH=4;BYDAY=1SU
END:DAYLIGHT
BEGIN:STANDARD
TZOFFSETFROM:-0500
TZOFFSETTO:-0600
TZNAME:CST
DTSTART:19701025T020000
RRULE:FREQ=YEARLY;BYMONTH=10;BYDAY=-1SU
END:STANDARD
END:VTIMEZONE
BEGIN:VEVENT
UID:2636007:Event:199327
DTSTAMP:20260425T082537Z
SUMMARY:Understanding the FairTax Webinar
DESCRIPTION:WHAT:  “Understanding the FAIRtaxsm” Webinar for May 
 2017 and SPECIAL TOPIC:  “How To Get Involved - a review all the wa
 ys you can be in action to consistently support the FT legislation”\
 nTax change is coming sooner than later. If we don’t become activist
 s now, we’ll be stuck with an income tax system for years to come.\n
 Our Message:  “No income tax for America”\nVolumes of calls, emai
 ls and faxes, social media posts as well as ‘letters to the editor
  can make a difference regardless of political affiliation.\nJoin Mar
 c Manieri as he helps us be better advocates to get the FAIRtax passed
 .\nWHEN: Thursday, May 25, 2017  TIME:  8 p.m. Eastern, 7 p.m. Centra
 l, 6 p.m. Mountain, and 5 p.m. Pacific  WHERE:  Anywhere your Persona
 l Computer has internet access  This is a LIVE EVENT.  You can ask qu
 estions, and all questions will be answered.\nBe sure to invite new FA
 IRtaxsm prospects as well as supporters to participate with you. Send 
 a webinar notice to your congressional representative’s offices invi
 ting them to participate. Especially if they are not cosponsors.\nLet 
 them know we are serious about passing the FairTax® in 2017.\nOur web
 inars are vital to educating honest tax payers.  We help build unders
 tanding for those wanting to know what the FAIRtaxsm is about or alrea
 dy supporters wanting to know more. \nNOTICE:  To participate it is 
 necessary to pre-register at this web link: \nhttps://attendee.gotoweb
 inar.com/register/7452474801669321986 \nWatch for a confirmation email
  with instructions for logging on.\nContact me, Larry Walters at repea
 l_16@earthlink.net with any questions.\n\n\nFor more information visit
  http://www.fairtaxnation.com/events/understanding-the-fairtax-webinar
 -14
DTSTART;TZID=America/Cancun:20170525T200000
DTEND;TZID=America/Cancun:20170525T210000
CATEGORIES:webinar
LOCATION:Your chair, your PC w/internet connection
WEBSITE:http://www.fairtax.org
URL:http://www.fairtax.org
CONTACT:407-949-2959
ORGANIZER;CN="Larry Walters":http://www.fairtaxnation.com/profile/Larr
 yWalters
ATTACH;FMTTYPE="image/jpeg":
ATTENDEE;ROLE=REQ-PARTICIPANT;PARTSTAT=ACCEPTED;RSVP=TRUE;CN="Larry Wa
 lters":http://www.fairtaxnation.com/profile/LarryWalters
END:VEVENT
END:VCALENDAR
