BEGIN:VCALENDAR
PRODID:NingEventWidget-v1
VERSION:2.0
METHOD:PUBLISH
BEGIN:VTIMEZONE
TZID:America/Cancun
X-LIC-LOCATION:America/Cancun
BEGIN:DAYLIGHT
TZOFFSETFROM:-0600
TZOFFSETTO:-0500
TZNAME:CDT
DTSTART:19700405T020000
RRULE:FREQ=YEARLY;BYMONTH=4;BYDAY=1SU
END:DAYLIGHT
BEGIN:STANDARD
TZOFFSETFROM:-0500
TZOFFSETTO:-0600
TZNAME:CST
DTSTART:19701025T020000
RRULE:FREQ=YEARLY;BYMONTH=10;BYDAY=-1SU
END:STANDARD
END:VTIMEZONE
BEGIN:VEVENT
UID:2636007:Event:183164
DTSTAMP:20260424T022806Z
SUMMARY:Understanding the FairTax Webinar
DESCRIPTION:WHAT: “Understanding the FairTax” Webinar for August 2
 013 and SPECIAL TOPIC: “The FairTax Elevator Pitch” how to explain
  the FT in 30 seconds in a simple, short paragraph\nRefocusing our eff
 orts to “End the IRS” & “Repeal the 16th”\nWHEN: Thursday, Aug
 . 22, 2013TIME:  8 p.m. Eastern, 7 p.m. Central, 6 p.m. Mountain, 5 p
 .m. PacificWHERE:  Anywhere your Personal Computer has internet acces
 sThis is a LIVE EVENT. You can submit questions, and all questions wil
 l be answered.\nBring more participants to this months and every month
 ’s webinar.\nJoin Marc Manieri, Webinar Producer & Host from Orlando
 , Florida.  Our webinars are vital to educating honest tax payers.  
 We help build the knowledge base of those on the front lines as well a
 s those wanting to know what the FairTax is about. \nNOTICE:  To par
 ticipate it is necessary to pre-register at this web link:\nhttps://ww
 w2.gotomeeting.com/register/839033466\nWatch for a confirmation email 
 with instructions for logging on. \nFor additional information contac
 t Larry Walters at repeal_16@earthlink.net.\n\nFor more information vi
 sit http://www.fairtaxnation.com/events/understanding-the-fairtax-webi
 nar-8
DTSTART;TZID=America/Cancun:20130822T200000
DTEND;TZID=America/Cancun:20130822T210000
CATEGORIES:webinar
LOCATION:Your PC/Mac & an internet connection
WEBSITE:http://www.fairtax.org/greater-orlando
URL:http://www.fairtax.org/greater-orlando
CONTACT:407-949-2959
ORGANIZER;CN="Larry Walters":http://www.fairtaxnation.com/profile/Larr
 yWalters
ATTACH;FMTTYPE="image/jpeg":
ATTENDEE;ROLE=REQ-PARTICIPANT;PARTSTAT=ACCEPTED;RSVP=TRUE;CN="Larry Wa
 lters":http://www.fairtaxnation.com/profile/LarryWalters
END:VEVENT
END:VCALENDAR
