BEGIN:VCALENDAR
PRODID:NingEventWidget-v1
VERSION:2.0
METHOD:PUBLISH
BEGIN:VTIMEZONE
TZID:America/Cancun
X-LIC-LOCATION:America/Cancun
BEGIN:DAYLIGHT
TZOFFSETFROM:-0600
TZOFFSETTO:-0500
TZNAME:CDT
DTSTART:19700405T020000
RRULE:FREQ=YEARLY;BYMONTH=4;BYDAY=1SU
END:DAYLIGHT
BEGIN:STANDARD
TZOFFSETFROM:-0500
TZOFFSETTO:-0600
TZNAME:CST
DTSTART:19701025T020000
RRULE:FREQ=YEARLY;BYMONTH=10;BYDAY=-1SU
END:STANDARD
END:VTIMEZONE
BEGIN:VEVENT
UID:2636007:Event:190281
DTSTAMP:20260425T122237Z
SUMMARY:Understanding the FairTax Webinar-Mar 2015
DESCRIPTION:What: \"Understanding the FairTax®\" webinar plus the Spe
 cial Topic: “Impact of the FairTax on Small Business”.\nWhen: Thur
 sday, March 26, 2015 Time: 8:00 PM Eastern, 7:00 PM Central, 6:00 PM M
 ountain, and 5:00 PM Pacific\nWhere: Anywhere your computer has intern
 et access.\nThis is a LIVE EVENT. You may ask questions and they will 
 all be answered!\nWho: Join Marc Manieri, producer and host of the “
 Understanding the FairTax” webinar series.\nWhy: These webinars from
  the Florida FairTax Educational Association are vital to educate thos
 e on the front lines and those wanting to know more about the FairTax.
  Be sure and invite your friends to each month’s webinar.\nNOTICE: T
 o participate it is necessary to register by clicking this link,\n \n
 https://attendee.gotowebinar.com/register/6079838971028248322\n \nThe
 n watch for a confirmation email with instructions for logging on.\nFo
 r additional information contact Larry Walters at repeal_16@earthlink.
 net\n\n\nFor more information visit http://www.fairtaxnation.com/event
 s/understanding-the-fairtax-webinar-mar-2015
DTSTART;TZID=America/Cancun:20150326T200000
DTEND;TZID=America/Cancun:20150326T210000
CATEGORIES:webinar
LOCATION:Your choice w/your PC and internet access
WEBSITE:http://www.fairtax.org
URL:http://www.fairtax.org
CONTACT:407-949-2959
ORGANIZER;CN="Larry Walters":http://www.fairtaxnation.com/profile/Larr
 yWalters
ATTACH;FMTTYPE="image/jpeg":
ATTENDEE;ROLE=REQ-PARTICIPANT;PARTSTAT=ACCEPTED;RSVP=TRUE;CN="Larry Wa
 lters":http://www.fairtaxnation.com/profile/LarryWalters
END:VEVENT
END:VCALENDAR
