BEGIN:VCALENDAR
PRODID:NingEventWidget-v1
VERSION:2.0
METHOD:PUBLISH
BEGIN:VTIMEZONE
TZID:America/Cancun
X-LIC-LOCATION:America/Cancun
BEGIN:DAYLIGHT
TZOFFSETFROM:-0600
TZOFFSETTO:-0500
TZNAME:CDT
DTSTART:19700405T020000
RRULE:FREQ=YEARLY;BYMONTH=4;BYDAY=1SU
END:DAYLIGHT
BEGIN:STANDARD
TZOFFSETFROM:-0500
TZOFFSETTO:-0600
TZNAME:CST
DTSTART:19701025T020000
RRULE:FREQ=YEARLY;BYMONTH=10;BYDAY=-1SU
END:STANDARD
END:VTIMEZONE
BEGIN:VEVENT
UID:2636007:Event:185714
DTSTAMP:20260421T125403Z
SUMMARY:Understanding the FairTax Webinar-March 2014
DESCRIPTION:WHAT:  “Understanding the FairTax” Webinar for Mar. 2
 014 and SPECIAL TOPIC:  “The effect on lower income earners whose c
 urrent effective tax rate is zero”.\nOur pressure as voters must be 
 exerted on every House & Senate member, especially House Ways and Mean
 s Committee members, NOW.\n\nWHEN: Thursday Mar. 27, 2014  TIME:  8 p
 .m. Eastern, 7 p.m. Central, 6 p.m. Mountain, and 5 p.m. Pacific  WHER
 E:  Anywhere your Personal Computer has internet access  This is a LI
 VE EVENT.  You can ask questions, and all questions will be answered.
  \nBring more participants to this months and every month’s webinar
 .\n\nJoin Marc Manieri, Webinar Producer & Host from Orlando, Florida.
   \nOur webinars are vital to educating honest tax payers.  We help 
 build the knowledge base of those on the front lines as well as those 
 wanting to know what the FairTax is about. \n\nNOTICE:  To participa
 te it is necessary to pre-register at this web link:\n https://www2.go
 tomeeting.com/register/763055706\n Watch for a confirmation email with
  instructions for logging on.\n\nWhen you log on you may be asked to d
 ownload GoToWebinar software which will allow you to join us. \nFor a
 dditional information contact Larry Walters at repeal_16@earthlink.net
 .\n \n\n\nFor more information visit http://www.fairtaxnation.com/eve
 nts/understanding-the-fairtax-webinar-march-2014
DTSTART;TZID=America/Cancun:20140327T200000
DTEND;TZID=America/Cancun:20140327T210000
CATEGORIES:webinar
LOCATION:Your computer anywhere with an internet connection
WEBSITE:http://www.flfairtax.com
URL:http://www.flfairtax.com
CONTACT:407-949-2959
ORGANIZER;CN="Larry Walters":http://www.fairtaxnation.com/profile/Larr
 yWalters
ATTACH;FMTTYPE="image/jpeg":
ATTENDEE;ROLE=REQ-PARTICIPANT;PARTSTAT=ACCEPTED;RSVP=TRUE;CN="Larry Wa
 lters":http://www.fairtaxnation.com/profile/LarryWalters
END:VEVENT
END:VCALENDAR
