BEGIN:VCALENDAR
PRODID:NingEventWidget-v1
VERSION:2.0
METHOD:PUBLISH
BEGIN:VTIMEZONE
TZID:America/Cancun
X-LIC-LOCATION:America/Cancun
BEGIN:DAYLIGHT
TZOFFSETFROM:-0600
TZOFFSETTO:-0500
TZNAME:CDT
DTSTART:19700405T020000
RRULE:FREQ=YEARLY;BYMONTH=4;BYDAY=1SU
END:DAYLIGHT
BEGIN:STANDARD
TZOFFSETFROM:-0500
TZOFFSETTO:-0600
TZNAME:CST
DTSTART:19701025T020000
RRULE:FREQ=YEARLY;BYMONTH=10;BYDAY=-1SU
END:STANDARD
END:VTIMEZONE
BEGIN:VEVENT
UID:2636007:Event:183687
DTSTAMP:20260424T064857Z
SUMMARY:\"Understanding the FairTax\" Webinar
DESCRIPTION:WHAT:  “Understanding the FairTax” Webinar for Sept. 
 2013 and SPECIAL TOPIC:  “History of the income tax” with guest p
 resenter Paul Livingston, District Director in the Jacksonville, FL ar
 ea.\nWe are focusing our efforts to “End the IRS” & “Repeal the 
 16th”\nOur pressure as voters must be exerted on every House & Senat
 e member, especially House Ways and Means members NOW.\nWHEN: Thursday
 , Sept. 26, 2013  TIME:  8 p.m. Eastern, 7 p.m. Central, 6 p.m. Mount
 ain, 5 p.m. Pacific  This is a LIVE EVENT. You can ask questions by vo
 ice or text message, and all questions will be answered.\nBring more p
 articipants to this months and every month’s webinar.\nJoin Marc Man
 ieri, Webinar Producer & Host from Orlando, Florida.  Our webinars ar
 e vital to educating honest tax payers.  We help build the knowledge 
 base of those on the front lines as well as those wanting to know what
  the FairTax is about.\nNOTICE:  To participate it is necessary to pr
 e-register at this web link:  https://www2.gotomeeting.com/register/98
 4768418  Watch for a confirmation email with instructions for logging 
 on.  \nIf this is your first participation, when you log on you’ll
  be asked to download GoToWebinar software which will allow you to joi
 n us. \nFor additional information contact Larry Walters at repeal_16
 @earthlink.net.\n\nFor more information visit http://www.fairtaxnation
 .com/events/understandint-the-fairtax-webinar
DTSTART;TZID=America/Cancun:20130926T200000
DTEND;TZID=America/Cancun:20130926T210000
CATEGORIES:webinar
LOCATION:Your PC/Mac wherever you have internet connection
WEBSITE:http://www.flfairtax.org
URL:http://www.flfairtax.org
CONTACT:407-949-2959
ORGANIZER;CN="Larry Walters":http://www.fairtaxnation.com/profile/Larr
 yWalters
ATTACH;FMTTYPE="image/jpeg":
ATTENDEE;ROLE=REQ-PARTICIPANT;PARTSTAT=ACCEPTED;RSVP=TRUE;CN="Larry Wa
 lters":http://www.fairtaxnation.com/profile/LarryWalters
END:VEVENT
END:VCALENDAR
