BEGIN:VCALENDAR
PRODID:NingEventWidget-v1
VERSION:2.0
METHOD:PUBLISH
BEGIN:VTIMEZONE
TZID:America/Cancun
X-LIC-LOCATION:America/Cancun
BEGIN:DAYLIGHT
TZOFFSETFROM:-0600
TZOFFSETTO:-0500
TZNAME:CDT
DTSTART:19700405T020000
RRULE:FREQ=YEARLY;BYMONTH=4;BYDAY=1SU
END:DAYLIGHT
BEGIN:STANDARD
TZOFFSETFROM:-0500
TZOFFSETTO:-0600
TZNAME:CST
DTSTART:19701025T020000
RRULE:FREQ=YEARLY;BYMONTH=10;BYDAY=-1SU
END:STANDARD
END:VTIMEZONE
BEGIN:VEVENT
UID:2636007:Event:132936
DTSTAMP:20260425T200417Z
SUMMARY:Understanting the FairTax, A Webinar
DESCRIPTION:WHAT: Â Understanding the FairTax webinar for March 2011 a
 nd\nÂ \nSPECIAL TOPIC: Â How the FT lowers the cost of manufacturing a
 nd production: A snapshot of the U.S. auto industry\nÂ \nWHEN: Thursda
 y, Mar. 24, 2011Â  TIME: Â 8 â€“ 8:45pm Eastern TimeÂ Â Â Â Â Â Â Â Â 
 Â  Â 7 â€“ 7:45pm Central, 6 â€“ 6:45 Mountain, 5 â€“ 5:45 PacificWHER
 E: Â Your home, your Personal ComputerWHY: Â To provide an interactive
  forum for people who cannot get to local meetings to learn about the 
 FairTax and to present Special Topics that are frequently misunderstoo
 d or not generally discussed. Education is the weapon of the FairTax g
 rassroots organizations and we are Educating the Nation on the web.\nÂ
  \nLess than 30 days till your Tax Returns are due.Â  How much longer 
 do you want to file federal personal income tax returns?Â  We have the
  solution, the FairTax.Â  Invite many to join you in making it happen.
 Â  Knowledge is power.Â  We need that power to be effective advocates 
 of the FairTax.\nÂ \nJoin Marc Manieri, Americans for Fair Taxation Co
 mmunity Coordinator in the Greater Orlando, Florida Area. Â In our sec
 ond year now, Marcâ€™s webinars draw national participation from seaso
 ned FairTax supporters as well as those just getting started. Â We hel
 p build the knowledge base of those on the front lines as well as thos
 e wanting to know what the FairTax is about.Â  We educate candidates a
 nd sitting Congressional Representatives on the merits of the FairTax.
 \nÂ \nThe PowerPoint presentations are available from Marc. When you g
 et your email after the webinar just â€˜Replyâ€™, requesting a copy an
 d it will be sent to you.To participate it is necessary to pre-registe
 r at this web link:\nhttps://www2.gotomeeting.com/register/263547051Yo
 u will receive a confirmation email with instructions for signing in a
 t the time of the Webinar.\nWhen you sign in youâ€™ll be asked to down
 load GoToWebinar software which will allow you to participate.\nFor ad
 ditional information contact Marc Manieri, 407-719-5117 or Larry Walte
 rs at repeal_16@earthlink.net.\n\nFor more information visit http://ww
 w.fairtaxnation.com/events/understanting-the-fairtax-a
DTSTART;TZID=America/Cancun:20110324T200000
DTEND;TZID=America/Cancun:20110324T210000
CATEGORIES:webinar
LOCATION:Your Home, Your PC
WEBSITE:https://www2.gotomeeting.com/register/263547051
URL:https://www2.gotomeeting.com/register/263547051
CONTACT:407-949-2959 / 407-719-5117
ORGANIZER:Larry Walters      / Marc Manieri
ATTACH;FMTTYPE="image/jpeg":
ATTENDEE;ROLE=REQ-PARTICIPANT;PARTSTAT=ACCEPTED;RSVP=TRUE;CN="Larry Wa
 lters":http://www.fairtaxnation.com/profile/LarryWalters
END:VEVENT
END:VCALENDAR
