BEGIN:VCALENDAR
PRODID:NingEventWidget-v1
VERSION:2.0
METHOD:PUBLISH
BEGIN:VTIMEZONE
TZID:America/Cancun
X-LIC-LOCATION:America/Cancun
BEGIN:DAYLIGHT
TZOFFSETFROM:-0600
TZOFFSETTO:-0500
TZNAME:CDT
DTSTART:19700405T020000
RRULE:FREQ=YEARLY;BYMONTH=4;BYDAY=1SU
END:DAYLIGHT
BEGIN:STANDARD
TZOFFSETFROM:-0500
TZOFFSETTO:-0600
TZNAME:CST
DTSTART:19701025T020000
RRULE:FREQ=YEARLY;BYMONTH=10;BYDAY=-1SU
END:STANDARD
END:VTIMEZONE
BEGIN:VEVENT
UID:2636007:Event:184250
DTSTAMP:20260424T081933Z
SUMMARY:UNFAIR: EXPOSING THE IRS MOVIE NC FAIRTAX RALLY
DESCRIPTION:Big news!  The UnFair: Exposing the IRS movie bus is roll
 ing into Winston-Salem this Tuesday evening, October 1st!  Craig Berg
 man, the producer, is the Director of Iowans for FairTax and will be o
 n the bus with his crew filming and promoting the movie as they travel
  in this 45 ft. bus across the U.S. hitting 28 states in 33 days. This
  film will reveal the truth about the abuses of power, the cover ups, 
 and expose the IRS as a blatantly unfair and corrupt entity which is u
 nable to be reformed and therefore must be abolished.\nCome and be a p
 art of history in the making!  Be interviewed!  This is a great oppo
 rtunity for FairTaxers to come and rally for the FairTax, to be with e
 ach other, and to be interviewed by Craig and his film crew.  Since i
 t will be filmed, a great showing of FairTax supporters will be so imp
 ortant. We are currently working to secure the place downtown where th
 e bus will be from 5:00 to 7:30 pm.  The exact place will be revealed
  in the next post but is expected to be in downtown Winston-Salem.  T
 he Visitors Center will advise tomorrow on the place.  Please plan to
  join us. We'll have FairTax supplies available for you to take to hel
 p you in promoting the FairTax in your area.  Please let me know if y
 ou have questions and if you are planning to attend the rally.  I can
  be reached at\n828-777-1068 or laura.mccue@ncfairtax.org. Steadfastly
  in Pursuit of the FairTax, Laura McCue, Volunteer NC State Director\n
 \nFor more information visit http://www.fairtaxnation.com/events/unfai
 r-exposing-the-irs-movie-nc-fairtax-rally
DTSTART;TZID=America/Cancun:20131001T170000
DTEND;TZID=America/Cancun:20131001T193000
CATEGORIES:fairtax, rally, and, movie, promotion, tour
LOCATION:DOWNTOWN WINSTON-SALEM.  EXACT PLACE TO BE DETERMINED.  WILL 
 UPDATE POST.
WEBSITE:
URL:
CONTACT:
ORGANIZER:Laura McCue, NC State Director
ATTACH;FMTTYPE="image/jpeg":
ATTENDEE;ROLE=REQ-PARTICIPANT;PARTSTAT=ACCEPTED;RSVP=TRUE;CN="Laura Mc
 Cue":http://www.fairtaxnation.com/profile/LauraMcCue
END:VEVENT
END:VCALENDAR
