BEGIN:VCALENDAR
PRODID:NingEventWidget-v1
VERSION:2.0
METHOD:PUBLISH
BEGIN:VTIMEZONE
TZID:America/Cancun
X-LIC-LOCATION:America/Cancun
BEGIN:DAYLIGHT
TZOFFSETFROM:-0600
TZOFFSETTO:-0500
TZNAME:CDT
DTSTART:19700405T020000
RRULE:FREQ=YEARLY;BYMONTH=4;BYDAY=1SU
END:DAYLIGHT
BEGIN:STANDARD
TZOFFSETFROM:-0500
TZOFFSETTO:-0600
TZNAME:CST
DTSTART:19701025T020000
RRULE:FREQ=YEARLY;BYMONTH=10;BYDAY=-1SU
END:STANDARD
END:VTIMEZONE
BEGIN:VEVENT
UID:2636007:Event:69855
DTSTAMP:20260423T201012Z
SUMMARY:Virginia, Newport News, FairTax vendor booth
DESCRIPTION:FairTax at Denbigh Days, Sat, Sept 19\n\nMark your calende
 rs, FairTax volunteers! I want at least 6 people at all times at the F
 airTax vendor booth, from 9:00 to 4:00, in the field at:\n14302 Old Co
 urthouse Way\nNewport News, VA 23602,\nhttp://tinyurl.com/kpn7bn\n\nAn
 ybody got a 10 by 10 canopy? I'll buy one if not.\n\nCall me or email 
 back if you can help me out.\n\nOh, in all fairness, there are other w
 orthy events that same day. I hear some FairTaxers will go to DC for t
 he http://www.valuesvotersummit.org/\n\n-Paul Burgener\n249-8835 (home
 )\n374-4551 (cell)\n\nFor more information visit http://www.fairtaxnat
 ion.com/events/virginia-newport-news-fairtax
DTSTART;TZID=America/Cancun:20090919T090000
DTEND;TZID=America/Cancun:20090919T160000
CATEGORIES:festival, vendor, booth
LOCATION:http://tinyurl.com/kpn7bn
WEBSITE:http://tinyurl.com/kpn7bn
URL:http://tinyurl.com/kpn7bn
CONTACT:757/374-4551 (cell)
ORGANIZER:Paul Burgener, Newport News FT CC
ATTACH;FMTTYPE="image/jpeg":
ATTENDEE;ROLE=REQ-PARTICIPANT;PARTSTAT=ACCEPTED;RSVP=TRUE;CN=Burgener:
 http://www.fairtaxnation.com/profile/Burgener
END:VEVENT
END:VCALENDAR
