BEGIN:VCALENDAR
PRODID:NingEventWidget-v1
VERSION:2.0
METHOD:PUBLISH
BEGIN:VTIMEZONE
TZID:America/Cancun
X-LIC-LOCATION:America/Cancun
BEGIN:DAYLIGHT
TZOFFSETFROM:-0600
TZOFFSETTO:-0500
TZNAME:CDT
DTSTART:19700405T020000
RRULE:FREQ=YEARLY;BYMONTH=4;BYDAY=1SU
END:DAYLIGHT
BEGIN:STANDARD
TZOFFSETFROM:-0500
TZOFFSETTO:-0600
TZNAME:CST
DTSTART:19701025T020000
RRULE:FREQ=YEARLY;BYMONTH=10;BYDAY=-1SU
END:STANDARD
END:VTIMEZONE
BEGIN:VEVENT
UID:2636007:Event:160155
DTSTAMP:20260424T035008Z
SUMMARY:WA STATE FairTax Conf. Call **NOTE DATE CHANGE**
DESCRIPTION:Greetings FairTax Supporters,\nThis phone call is to help 
 one another become more informed and more active in educating and prom
 oting the FairTax throughout WA State.\nConference Call Number: 605-47
 5-4825  AND\nAccess Code: 436526#\n\n* (asterik) 6 / mute-unmute\n\nP
 lease make sure you are logged into FTN before getting on the call as
  different aspect to the site will be shared, & there will be a breif 
 tutorial to the benefits of FairTaxNation & its capabilities.\nConfere
 nce Call Number: 605-475-4825  AND\nAccess Code: 436526#\n* (asterik)
  6 / mute-unmute\nAgenda for our JAN Meeting:\n\nShare what you are g
 oing to do in the next month (Jan 18 - Feb 18) to PROMOTE the FairTax.
 \nInvite 5 FairTax supporters you know to be on the call\nBe logged on
  to FairTaxNation prior to dialing in\nWhat do you think about a \"cal
 ling campaign?\"\n\n\nFor more information visit http://www.fairtaxnat
 ion.com/events/wa-state-fairtax-conf-call-2
DTSTART;TZID=America/Cancun:20120119T193000
DTEND;TZID=America/Cancun:20120119T203000
CATEGORIES:"conf.", call, meeting
LOCATION:Your Phone/From Wherever You Are JOIN US! Conference Call Num
 ber & ACCESS CODE listed below...
WEBSITE:
URL:
CONTACT:
ORGANIZER:Jamie Wheeler  509-586-7124
ATTACH;FMTTYPE="image/jpeg":http://storage.ning.com/topology/rest/1.0/
 file/get/1080608805?profile=original
ATTENDEE;ROLE=REQ-PARTICIPANT;PARTSTAT=ACCEPTED;RSVP=TRUE;CN="Jamie Wh
 eeler WA":http://www.fairtaxnation.com/profile/Jamie
ATTENDEE;ROLE=REQ-PARTICIPANT;PARTSTAT=ACCEPTED;RSVP=TRUE;CN="Steven C
 risp":http://www.fairtaxnation.com/profile/StevenCrisp
ATTENDEE;ROLE=REQ-PARTICIPANT;PARTSTAT=TENTATIVE;RSVP=TRUE;CN="Ray Cli
 sh":http://www.fairtaxnation.com/profile/RayClish
ATTENDEE;ROLE=REQ-PARTICIPANT;PARTSTAT=TENTATIVE;RSVP=TRUE;CN="Frank G
 ilbert":http://www.fairtaxnation.com/profile/FrankGilbert
ATTENDEE;ROLE=REQ-PARTICIPANT;PARTSTAT=TENTATIVE;RSVP=TRUE;CN="Steve B
 ang":http://www.fairtaxnation.com/profile/SteveBang
ATTENDEE;ROLE=REQ-PARTICIPANT;PARTSTAT=TENTATIVE;RSVP=TRUE;CN="KEN TOB
 IAS":http://www.fairtaxnation.com/profile/KENTOBIAS
END:VEVENT
END:VCALENDAR
