BEGIN:VCALENDAR
PRODID:NingEventWidget-v1
VERSION:2.0
METHOD:PUBLISH
BEGIN:VTIMEZONE
TZID:America/Cancun
X-LIC-LOCATION:America/Cancun
BEGIN:DAYLIGHT
TZOFFSETFROM:-0600
TZOFFSETTO:-0500
TZNAME:CDT
DTSTART:19700405T020000
RRULE:FREQ=YEARLY;BYMONTH=4;BYDAY=1SU
END:DAYLIGHT
BEGIN:STANDARD
TZOFFSETFROM:-0500
TZOFFSETTO:-0600
TZNAME:CST
DTSTART:19701025T020000
RRULE:FREQ=YEARLY;BYMONTH=10;BYDAY=-1SU
END:STANDARD
END:VTIMEZONE
BEGIN:VEVENT
UID:2636007:Event:11276
DTSTAMP:20260423T174400Z
SUMMARY:Walker County (AL) FairTax Seminar
DESCRIPTION:Program designed to introduce the FairTax Plan to \"future
  supporters.\" Speakers will be Mike Frederick, AL State Director; Mat
 t Murphy, Birmingham Radio Show Host; Jim Tomasik, FairTaxNation. AL D
 istrict 4 Rep. Robert Aderholt and Dist 5 Rep. Parker Griffith are inv
 ited as honored guests. There will be two programs: 1:00-3:00 and 3:00
 -5:00. The Marshall County Group is co-hosting with Walker County.\n\n
 For more information visit http://www.fairtaxnation.com/events/walker-
 county-al-fairtax
DTSTART;TZID=America/Cancun:20090328T130000
DTEND;TZID=America/Cancun:20090328T170000
CATEGORIES:introducing, the, fairtax, plan
LOCATION:CHS Building
WEBSITE:
URL:
CONTACT:205-387-0011
ORGANIZER:Bud Seel, Walker County FairTax Coordinator
ATTACH;FMTTYPE="image/jpeg":http://storage.ning.com/topology/rest/1.0/
 file/get/1080571511?profile=original
ATTENDEE;ROLE=REQ-PARTICIPANT;PARTSTAT=ACCEPTED;RSVP=TRUE;CN="Chuck Ba
 iley":http://www.fairtaxnation.com/profile/ChuckBailey
ATTENDEE;ROLE=REQ-PARTICIPANT;PARTSTAT=ACCEPTED;RSVP=TRUE;CN="bill hob
 dy":http://www.fairtaxnation.com/profile/billhobdy
ATTENDEE;ROLE=REQ-PARTICIPANT;PARTSTAT=ACCEPTED;RSVP=TRUE;CN="Bud Seel
 ":http://www.fairtaxnation.com/profile/BudSeel
ATTENDEE;ROLE=REQ-PARTICIPANT;PARTSTAT=ACCEPTED;RSVP=TRUE;CN="Jim Toma
 sik":http://www.fairtaxnation.com/profile/JimTomasik
ATTENDEE;ROLE=REQ-PARTICIPANT;PARTSTAT=ACCEPTED;RSVP=TRUE;CN="Jean McC
 rady":http://www.fairtaxnation.com/profile/JeanMcCrady
END:VEVENT
END:VCALENDAR
