BEGIN:VCALENDAR
PRODID:NingEventWidget-v1
VERSION:2.0
METHOD:PUBLISH
BEGIN:VTIMEZONE
TZID:America/Cancun
X-LIC-LOCATION:America/Cancun
BEGIN:DAYLIGHT
TZOFFSETFROM:-0600
TZOFFSETTO:-0500
TZNAME:CDT
DTSTART:19700405T020000
RRULE:FREQ=YEARLY;BYMONTH=4;BYDAY=1SU
END:DAYLIGHT
BEGIN:STANDARD
TZOFFSETFROM:-0500
TZOFFSETTO:-0600
TZNAME:CST
DTSTART:19701025T020000
RRULE:FREQ=YEARLY;BYMONTH=10;BYDAY=-1SU
END:STANDARD
END:VTIMEZONE
BEGIN:VEVENT
UID:2636007:Event:157446
DTSTAMP:20260421T125356Z
SUMMARY:\"We the People\"
DESCRIPTION:The nice folks of \"We the People\" have invited me to giv
 e a presentation of the \"FairTax\".\nCome at 5:30 pm if you want to e
 at.\nMeeting starts at 6:00 pm.\n \n \n\nFor more information visit 
 http://www.fairtaxnation.com/events/we-the-people
DTSTART;TZID=America/Cancun:20111108T173000
DTEND;TZID=America/Cancun:20111108T190000
CATEGORIES:general, meeting
LOCATION:Media Star Entertainment
WEBSITE:http://maps.google.com/maps?f=q&source=s_q&hl=en&geocode=&abau
 th=333c4502:vQ93KV3wHYglQBWnjBV05zd-mw0&q=1400+Dalzell,+Shreveport,+La
 &aq=&vps=1&ei=sL2tToGxO4TEMcuf6YoG&jsv=377a&sll=28.07198,-66.972656&ss
 pn=33.911916,78.75&vpsrc=1&num=10&abstate=A:actbar-saveto
URL:http://maps.google.com/maps?f=q&source=s_q&hl=en&geocode=&abauth=3
 33c4502:vQ93KV3wHYglQBWnjBV05zd-mw0&q=1400+Dalzell,+Shreveport,+La&aq=
 &vps=1&ei=sL2tToGxO4TEMcuf6YoG&jsv=377a&sll=28.07198,-66.972656&sspn=3
 3.911916,78.75&vpsrc=1&num=10&abstate=A:actbar-saveto
CONTACT:318-751-4736
ORGANIZER:We the People
ATTACH;FMTTYPE="image/jpeg":
ATTENDEE;ROLE=REQ-PARTICIPANT;PARTSTAT=ACCEPTED;RSVP=TRUE;CN="grant sw
 anson":http://www.fairtaxnation.com/profile/grantswanson
END:VEVENT
END:VCALENDAR
