BEGIN:VCALENDAR
PRODID:NingEventWidget-v1
VERSION:2.0
METHOD:PUBLISH
BEGIN:VTIMEZONE
TZID:America/Cancun
X-LIC-LOCATION:America/Cancun
BEGIN:DAYLIGHT
TZOFFSETFROM:-0600
TZOFFSETTO:-0500
TZNAME:CDT
DTSTART:19700405T020000
RRULE:FREQ=YEARLY;BYMONTH=4;BYDAY=1SU
END:DAYLIGHT
BEGIN:STANDARD
TZOFFSETFROM:-0500
TZOFFSETTO:-0600
TZNAME:CST
DTSTART:19701025T020000
RRULE:FREQ=YEARLY;BYMONTH=10;BYDAY=-1SU
END:STANDARD
END:VTIMEZONE
BEGIN:VEVENT
UID:2636007:Event:197371
DTSTAMP:20260425T082527Z
SUMMARY:Webinar: Understanding the FAIRtax
DESCRIPTION:WHAT:  “Understanding the FAIRtaxsm” Webinar for Aug.
  2016 and\nSPECIAL TOPIC:  “Compare: The FAIRtax and the released 
 Blue Print” from the Establishment.”\nThe 2016 Primaries are alm
 ost over and every advocate should be seeking events or candidate appe
 arances near you to have a FAIRtaxsm presence and spread the word, “
 No income tax for America”.\nFor a list with hot links to every memb
 er of the House Committee on Ways & Means, email me, Larry Walters at 
 repeal_16@earthlink.net.\nJoin Marc Manieri back from vacation and rea
 dy to take us through our 8th year of webinars.\nWHEN: Thursday, Aug. 
 25, 2016  TIME:  8 p.m. Eastern, 7 p.m. Central, 6 p.m. Mountain, and
  5 p.m. Pacific  WHERE:  Anywhere your Personal Computer has internet
  access  This is a LIVE EVENT.  You can ask questions, and all questi
 ons will be answered.\nBe sure to invite new FAIRtaxsm supporters & pr
 ospects to participate with you. Send a webinar notice to your congres
 sional representative’s offices inviting them to participate. Especi
 ally if they are not cosponsors.\nLet them know we are serious about p
 assing the FairTax® in 2017.\nOur webinars are vital to educating hon
 est tax payers.  We help build the knowledge base of those on the fro
 nt lines as well as those wanting to know what the FAIRtaxsm is about.
  \nNOTICE:  To participate it is necessary to pre-register at this w
 eb link:\n \nhttps://attendee.gotowebinar.com/register/33043164912163
 31265 \nWatch for a confirmation email with instructions for logging o
 n.\nFor additional information contact Larry Walters at repeal_16@eart
 hlink.net\n\nFor more information visit http://www.fairtaxnation.com/e
 vents/webinar-understanding-the-fairtax-2
DTSTART;TZID=America/Cancun:20160825T200000
DTEND;TZID=America/Cancun:20160825T210000
CATEGORIES:webinar
LOCATION:Your Device with internet access
WEBSITE:http://www.fairtax.org
URL:http://www.fairtax.org
CONTACT:407-949-2959
ORGANIZER;CN="Larry Walters":http://www.fairtaxnation.com/profile/Larr
 yWalters
ATTACH;FMTTYPE="image/jpeg":
ATTENDEE;ROLE=REQ-PARTICIPANT;PARTSTAT=ACCEPTED;RSVP=TRUE;CN="Larry Wa
 lters":http://www.fairtaxnation.com/profile/LarryWalters
END:VEVENT
END:VCALENDAR
