BEGIN:VCALENDAR
PRODID:NingEventWidget-v1
VERSION:2.0
METHOD:PUBLISH
BEGIN:VTIMEZONE
TZID:America/Cancun
X-LIC-LOCATION:America/Cancun
BEGIN:DAYLIGHT
TZOFFSETFROM:-0600
TZOFFSETTO:-0500
TZNAME:CDT
DTSTART:19700405T020000
RRULE:FREQ=YEARLY;BYMONTH=4;BYDAY=1SU
END:DAYLIGHT
BEGIN:STANDARD
TZOFFSETFROM:-0500
TZOFFSETTO:-0600
TZNAME:CST
DTSTART:19701025T020000
RRULE:FREQ=YEARLY;BYMONTH=10;BYDAY=-1SU
END:STANDARD
END:VTIMEZONE
BEGIN:VEVENT
UID:2636007:Event:65362
DTSTAMP:20260422T042213Z
SUMMARY:Western Wake Republican Party Picnic
DESCRIPTION:WWRC MEETING MONDAY JUNE 22\n\nTICKETS CAN BE PURCHASED ON
 LINE OR AT THE PICNIC\n\n2009 WWRC 8th ANNUAL FAMILY PICNIC\n\nSaturda
 y June 27th,2009\n\nApex Community Park\n\nDirections\n\n11:30 AM - 3:
 00 PM\n\nTIckets $15 - Children Under 12 Free\n\nBring the kids! The p
 icnic is family friendly event with surprises and games\n-------------
 -----------------------\nCan someone attend this event to represent th
 e FairTax?\n\nThey will be expecting us.\n\nFor more information visit
  http://www.fairtaxnation.com/events/western-wake-republican-party
DTSTART;TZID=America/Cancun:20090627T113000
DTEND;TZID=America/Cancun:20090627T150000
CATEGORIES:fundraising, picnic
LOCATION:Apex Community Park (Laura Duncan Entrance)
WEBSITE:http://www.westernwakegop.org/
URL:http://www.westernwakegop.org/
CONTACT:
ORGANIZER;CN="Michael Patton":http://www.fairtaxnation.com/profile/Mic
 haelPatton
ATTACH;FMTTYPE="image/jpeg":
END:VEVENT
END:VCALENDAR
