BEGIN:VCALENDAR
PRODID:NingEventWidget-v1
VERSION:2.0
METHOD:PUBLISH
BEGIN:VTIMEZONE
TZID:America/Cancun
X-LIC-LOCATION:America/Cancun
BEGIN:DAYLIGHT
TZOFFSETFROM:-0600
TZOFFSETTO:-0500
TZNAME:CDT
DTSTART:19700405T020000
RRULE:FREQ=YEARLY;BYMONTH=4;BYDAY=1SU
END:DAYLIGHT
BEGIN:STANDARD
TZOFFSETFROM:-0500
TZOFFSETTO:-0600
TZNAME:CST
DTSTART:19701025T020000
RRULE:FREQ=YEARLY;BYMONTH=10;BYDAY=-1SU
END:STANDARD
END:VTIMEZONE
BEGIN:VEVENT
UID:2636007:Event:35351
DTSTAMP:20260424T084149Z
SUMMARY:Western Washington Tea Party
DESCRIPTION:We are having a tea party at the Enumclaw Library April 2n
 d at 7pm. We will probably be stuffing pictures or sending post cards 
 rather than tea bags to ensure that our voice makes it to the whitehou
 se. After which we will open the floor to discussion of the fairtax an
 d building the snowball in our region.\n\nFor more information visit h
 ttp://www.fairtaxnation.com/events/western-washington-tea-party
DTSTART;TZID=America/Cancun:20090402T190000
DTEND;TZID=America/Cancun:20090402T210000
CATEGORIES:tea, party
LOCATION:Enumclaw, WA Library/Meeting Room
WEBSITE:
URL:
CONTACT:253-670-8827
ORGANIZER:Dustin Twiggs
ATTACH;FMTTYPE="image/jpeg":
ATTENDEE;ROLE=REQ-PARTICIPANT;PARTSTAT=ACCEPTED;RSVP=TRUE;CN=Dustin:ht
 tp://www.fairtaxnation.com/profile/Dustin
END:VEVENT
END:VCALENDAR
