BEGIN:VCALENDAR
PRODID:NingEventWidget-v1
VERSION:2.0
METHOD:PUBLISH
BEGIN:VTIMEZONE
TZID:America/Cancun
X-LIC-LOCATION:America/Cancun
BEGIN:DAYLIGHT
TZOFFSETFROM:-0600
TZOFFSETTO:-0500
TZNAME:CDT
DTSTART:19700405T020000
RRULE:FREQ=YEARLY;BYMONTH=4;BYDAY=1SU
END:DAYLIGHT
BEGIN:STANDARD
TZOFFSETFROM:-0500
TZOFFSETTO:-0600
TZNAME:CST
DTSTART:19701025T020000
RRULE:FREQ=YEARLY;BYMONTH=10;BYDAY=-1SU
END:STANDARD
END:VTIMEZONE
BEGIN:VEVENT
UID:2636007:Event:65024
DTSTAMP:20260422T023906Z
SUMMARY:WNC Region wide Meeting of The 9-12 Project... \"We are Not Al
 one\"
DESCRIPTION:The 9-12 Project supports the FairTax so while this is not
  a FairTax event, I thought that some of you might be interested in at
 tending this program in Haywood County. Please visit the website to se
 e if this is something you would be interested in. Call me if you have
  questions.\n\nFor more information visit http://www.fairtaxnation.com
 /events/wnc-region-wide-meeting-of-the
DTSTART;TZID=America/Cancun:20090626T173000
DTEND;TZID=America/Cancun:20090626T200000
CATEGORIES:meeting
LOCATION:The Historical Colonial Theater
WEBSITE:http://9-12projectashevillenc.ning.com/events/wnc-region-wide-
 meeting-of-the
URL:http://9-12projectashevillenc.ning.com/events/wnc-region-wide-meet
 ing-of-the
CONTACT:828-274-7844 or laura.mccue@ncfairtax.org
ORGANIZER;CN="Laura McCue":http://www.fairtaxnation.com/profile/LauraM
 cCue
ATTACH;FMTTYPE="image/jpeg":
ATTENDEE;ROLE=REQ-PARTICIPANT;PARTSTAT=ACCEPTED;RSVP=TRUE;CN="Laura Mc
 Cue":http://www.fairtaxnation.com/profile/LauraMcCue
END:VEVENT
END:VCALENDAR
